BEGIN:VCALENDAR
VERSION:2.0
PRODID:-//APTEC - ECPv6.15.18//NONSGML v1.0//EN
CALSCALE:GREGORIAN
METHOD:PUBLISH
X-WR-CALNAME:APTEC
X-ORIGINAL-URL:https://www.ncnsaptec.ca
X-WR-CALDESC:Events for APTEC
REFRESH-INTERVAL;VALUE=DURATION:PT1H
X-Robots-Tag:noindex
X-PUBLISHED-TTL:PT1H
BEGIN:VTIMEZONE
TZID:America/Halifax
BEGIN:DAYLIGHT
TZOFFSETFROM:-0400
TZOFFSETTO:-0300
TZNAME:ADT
DTSTART:20250309T060000
END:DAYLIGHT
BEGIN:STANDARD
TZOFFSETFROM:-0300
TZOFFSETTO:-0400
TZNAME:AST
DTSTART:20251102T050000
END:STANDARD
BEGIN:DAYLIGHT
TZOFFSETFROM:-0400
TZOFFSETTO:-0300
TZNAME:ADT
DTSTART:20260308T060000
END:DAYLIGHT
BEGIN:STANDARD
TZOFFSETFROM:-0300
TZOFFSETTO:-0400
TZNAME:AST
DTSTART:20261101T050000
END:STANDARD
BEGIN:DAYLIGHT
TZOFFSETFROM:-0400
TZOFFSETTO:-0300
TZNAME:ADT
DTSTART:20270314T060000
END:DAYLIGHT
BEGIN:STANDARD
TZOFFSETFROM:-0300
TZOFFSETTO:-0400
TZNAME:AST
DTSTART:20271107T050000
END:STANDARD
END:VTIMEZONE
BEGIN:VEVENT
DTSTART;TZID=America/Halifax:20260502T130000
DTEND;TZID=America/Halifax:20260502T150000
DTSTAMP:20260419T220247
CREATED:20260410T160646Z
LAST-MODIFIED:20260410T181826Z
UID:3396-1777726800-1777734000@www.ncnsaptec.ca
SUMMARY:Storytelling and Face Painting Workshop
DESCRIPTION:  \nThe Native Council of Nova Scotia and the Ross Creek Centre for the Arts are partnering up to host a Storytelling and Face Painting Workshop with Mi’kmaq Author of “Painting our Legacy” Raven Stephens \n  \nThis workshop is free to attend. \n  \nTaking place Saturday\, May 2nd at 1:00PM-3:00PM.
URL:https://www.ncnsaptec.ca/event/storytelling-and-face-painting-workshop/
LOCATION:Ross Creek Annex\, 2182 Sheffield Road\, Canning\, Nova Scotia\, B0P 1H0\, Canada
ORGANIZER;CN="APTEC West":MAILTO:aptecwest@ncns.ca
END:VEVENT
END:VCALENDAR