BEGIN:VCALENDAR
VERSION:2.0
PRODID:-//APTEC - ECPv6.15.18//NONSGML v1.0//EN
CALSCALE:GREGORIAN
METHOD:PUBLISH
X-ORIGINAL-URL:https://www.ncnsaptec.ca
X-WR-CALDESC:Events for APTEC
REFRESH-INTERVAL;VALUE=DURATION:PT1H
X-Robots-Tag:noindex
X-PUBLISHED-TTL:PT1H
BEGIN:VTIMEZONE
TZID:America/Halifax
BEGIN:DAYLIGHT
TZOFFSETFROM:-0400
TZOFFSETTO:-0300
TZNAME:ADT
DTSTART:20240310T060000
END:DAYLIGHT
BEGIN:STANDARD
TZOFFSETFROM:-0300
TZOFFSETTO:-0400
TZNAME:AST
DTSTART:20241103T050000
END:STANDARD
BEGIN:DAYLIGHT
TZOFFSETFROM:-0400
TZOFFSETTO:-0300
TZNAME:ADT
DTSTART:20250309T060000
END:DAYLIGHT
BEGIN:STANDARD
TZOFFSETFROM:-0300
TZOFFSETTO:-0400
TZNAME:AST
DTSTART:20251102T050000
END:STANDARD
BEGIN:DAYLIGHT
TZOFFSETFROM:-0400
TZOFFSETTO:-0300
TZNAME:ADT
DTSTART:20260308T060000
END:DAYLIGHT
BEGIN:STANDARD
TZOFFSETFROM:-0300
TZOFFSETTO:-0400
TZNAME:AST
DTSTART:20261101T050000
END:STANDARD
BEGIN:DAYLIGHT
TZOFFSETFROM:-0400
TZOFFSETTO:-0300
TZNAME:ADT
DTSTART:20270314T060000
END:DAYLIGHT
BEGIN:STANDARD
TZOFFSETFROM:-0300
TZOFFSETTO:-0400
TZNAME:AST
DTSTART:20271107T050000
END:STANDARD
END:VTIMEZONE
BEGIN:VEVENT
DTSTART;TZID=America/Halifax:20251024T130000
DTEND;TZID=America/Halifax:20251024T150000
DTSTAMP:20260420T195021
CREATED:20251021T122135Z
LAST-MODIFIED:20251021T122253Z
UID:3263-1761310800-1761318000@www.ncnsaptec.ca
SUMMARY:Quill Workshop
DESCRIPTION:FRC & APTEC Present: \nQuill Workshop \nContact Michael Smith to Register 902-354-2751 \nFor Indigenous Families living off-reserve with children aged 0-18 years.
URL:https://www.ncnsaptec.ca/event/3263/
LOCATION:APTEC Liverpool Office\, 180 White Point Road\, Hunts Point\, Nova Scotia\, B0T 1K0\, Canada
END:VEVENT
BEGIN:VEVENT
DTSTART;TZID=America/Halifax:20251117T083000
DTEND;TZID=America/Halifax:20251202T163000
DTSTAMP:20260420T195021
CREATED:20251118T162758Z
LAST-MODIFIED:20251118T163232Z
UID:3300-1763368200-1764693000@www.ncnsaptec.ca
SUMMARY:Dartmouth Holiday Events
DESCRIPTION:We have multiple days of events and programming taking place at our Dartmouth location from November until early December! Reach out to your local case manager to sign up or learn more! \n\n\n\nDay 1\nNovember 17\nVision Board Bingo: 10:30-12:30 \n \n\n\nDay 2\nNovember 18 \n \nReindeer Resilience: Stress Management: 10:30-12:30\n\n\nDay 3\nNovember 19 \n \nSanta’s Schedule: Time Management Tips: 10:30-12:30\n\n\nDay 4\nNovember 20 \n \nBuild your own gingerbread house and learn about the trades: 10:30-12:30\n\n\nDay 5\nNovember 21 \n \nNetworking Sparkle: Elevator Pitch Holiday Themed: 10:30-12:30\n\n\nDay 6\nNovember 24 \n \nLet’s Bead! Over hot cocoa & Sweets: 10:30-12:30\n\n\nDay 7\nNovember 25 \n \nAll things Resumes: 10:30-12:30\n\n\nDay 8\nNovember 26 \n \nThe Gift of gratitude: Holiday Card Marking: 10:30-12:30\n\n\nDay 9\nNovember 27 \n \nQuill Workshop: 10 Person Max: 9-12pm\n\n\nDay 10\nNovember 28 \n \nMake your own ornament: 10:30-12:30\n\n\nDay 11\nDecember 1 \n \nGift Yourself: Merry Mindset Building Confidence\, Motivation and Positivity: 10:30-12:30\n\n\nDay 12\nDecember 2 \n \nWork Life Balance: 10:30-12:30
URL:https://www.ncnsaptec.ca/event/dartmouth-holiday-events/
LOCATION:Native Council Dartmouth Location\, 11 Akerly BLVD\, Suite 150\, Dartmouth\, Nova Scotia\, Canada
END:VEVENT
BEGIN:VEVENT
DTSTART;TZID=America/Halifax:20251119T130000
DTEND;TZID=America/Halifax:20251119T150000
DTSTAMP:20260420T195021
CREATED:20251118T160747Z
LAST-MODIFIED:20251118T160747Z
UID:3292-1763557200-1763564400@www.ncnsaptec.ca
SUMMARY:Interview Skills and Cover Letter Workshop
DESCRIPTION:
URL:https://www.ncnsaptec.ca/event/interview-skills-and-cover-letter-workshop/
LOCATION:APTEC Sydney Office\, 235 Charlotte Street\, Sydney\, Nova Scotia\, B1P 1C4\, Canada
ORGANIZER;CN="Joanne Coull":MAILTO:apteccb@ncns.ca
END:VEVENT
BEGIN:VEVENT
DTSTART;TZID=America/Halifax:20251210T150000
DTEND;TZID=America/Halifax:20251210T163000
DTSTAMP:20260420T195021
CREATED:20251201T151551Z
LAST-MODIFIED:20251201T151551Z
UID:3307-1765378800-1765384200@www.ncnsaptec.ca
SUMMARY:Elevator Pitch and Networking Skills Workshop
DESCRIPTION:Looking to stand out in professional settings or interviews? Join us at our Liverpool office to get the knowledge you need!
URL:https://www.ncnsaptec.ca/event/elevator-pitch-and-networking-skills-workshop/
LOCATION:APTEC Liverpool Office\, 180 White Point Road\, Hunts Point\, Nova Scotia\, B0T 1K0\, Canada
ORGANIZER;CN="Michael Smith":MAILTO:aptecliv@ncns.ca
END:VEVENT
BEGIN:VEVENT
DTSTART;TZID=America/Halifax:20260210T100000
DTEND;TZID=America/Halifax:20260210T130000
DTSTAMP:20260420T195021
CREATED:20260205T131738Z
LAST-MODIFIED:20260205T190305Z
UID:3340-1770717600-1770728400@www.ncnsaptec.ca
SUMMARY:Correctional Officer Information Session
DESCRIPTION:We’ve partnered with the Nova Scotia Department of Justice to hold an information session/job fair for anyone interested in learning more or applying to be a correctional officer!\n\n\nThis event will take place on February 10th in Forrestor Hall at the Nova Scotia Community College – NSCC Truro from 10am until 1pm\, in the Mindfulness Centre F110. The event is drop-in so come by and find out how you can enter this field!\n\n\nWe will be hosting another Correctional Officer info session in Sydney next week so stay tuned
URL:https://www.ncnsaptec.ca/event/correctional-officer-information-session/
LOCATION:36 Arthur Street\, Truro\, NS\, B2N 1X5\, 36 Arthur Street\, Truro\, Nova Scotia\, B2N 1X5\, Canada
END:VEVENT
BEGIN:VEVENT
DTSTART;TZID=America/Halifax:20260212T100000
DTEND;TZID=America/Halifax:20260212T130000
DTSTAMP:20260420T195021
CREATED:20260209T125213Z
LAST-MODIFIED:20260209T125213Z
UID:3349-1770890400-1770901200@www.ncnsaptec.ca
SUMMARY:Correctional Officer Information Session
DESCRIPTION:Here’s our Sydney Corrections info session!!!\n\n\n\n\n\nWe’ve partnered with the Nova Scotia Department of Justice to hold an information session/job fair for anyone interested in learning more or applying to be a correctional officer!\n\n\n\n\n\nThis event will take place at our Sydney office (235 Charlotte Street\,\n\n\nUnit 1) on February 12th from 10am until 1pm. The event is drop-in so come by and find out how you can enter this field!
URL:https://www.ncnsaptec.ca/event/correctional-officer-information-session-2/
LOCATION:APTEC Sydney Office\, 235 Charlotte Street\, Sydney\, Nova Scotia\, B1P 1C4\, Canada
END:VEVENT
BEGIN:VEVENT
DTSTART;TZID=America/Halifax:20260305T163000
DTEND;TZID=America/Halifax:20260305T190000
DTSTAMP:20260420T195021
CREATED:20260218T125836Z
LAST-MODIFIED:20260218T130218Z
UID:3352-1772728200-1772737200@www.ncnsaptec.ca
SUMMARY:Apprentice Focus Group
DESCRIPTION:Your voice matters! Help shape the future of Indigenous apprenticeship! \nHappening at our APTEC Dartmouth location. \nSnacks and refreshments provided. \nRegister by March 4\, 2026. \nLimited spots available. \nContact Cory to register- aptectrades@ncns.ca or 902-222-4527
URL:https://www.ncnsaptec.ca/event/apprentice-focus-group-2/
LOCATION:Native Council Dartmouth Location\, 11 Akerly BLVD\, Suite 150\, Dartmouth\, Nova Scotia\, Canada
END:VEVENT
BEGIN:VEVENT
DTSTART;TZID=America/Halifax:20260316T083000
DTEND;TZID=America/Halifax:20260316T163000
DTSTAMP:20260420T195021
CREATED:20260227T130447Z
LAST-MODIFIED:20260227T132343Z
UID:3372-1773649800-1773678600@www.ncnsaptec.ca
SUMMARY:APTEC First AID Training
DESCRIPTION:  \nAPTEC is hosting an eight hour course that covers CPR for all age groups\, first aid for choking\, bleeding\, asthma\, severe allergies\, heart attack\, stroke\, shock and burns. This is the most common course for employment purposes\, and it satisfies the requirements for first aid in workplaces such as offices\, daycares\, stores\, schools\, construction sites and security work!
URL:https://www.ncnsaptec.ca/event/3372/
LOCATION:APTEC Liverpool Office\, 180 White Point Road\, Hunts Point\, Nova Scotia\, B0T 1K0\, Canada
END:VEVENT
BEGIN:VEVENT
DTSTART;TZID=America/Halifax:20260320T083000
DTEND;TZID=America/Halifax:20260322T193000
DTSTAMP:20260420T195021
CREATED:20260219T183447Z
LAST-MODIFIED:20260220T183542Z
UID:3361-1773995400-1774207800@www.ncnsaptec.ca
SUMMARY:2026 Healing Horizons: Indigenous Youth Retreat
DESCRIPTION:Healing Horizons: Indigenous Youth Retreat 2026  \nA fully funded 3‑day retreat supporting healing\, identity\, leadership\, and community connection for Indigenous youth across Nova Scotia. \nFrom March 20–22\, 2026\, join us at Delta Hotels Dartmouth for a powerful gathering filled with ceremony\, cultural workshops\, and uplifting activities. \nHosted by the Youth Development Initiative (YDI) under the Native Council of Nova Scotia\, this retreat welcomes First Nations youth ages 16–24. \n What to Expect: • Escape Room • Rage Room • Cultural Workshops (Quill Medallion Making\, Prayer Ties + more) • Sunrise Ceremony\, Opening & Closing Prayers\, Sharing Circles • Prizes & Giveaways • \nA safe\, supportive space to connect\, learn\, and grow  Travel Support Available: • Reimbursed kilometers • Round‑trip bus tickets  \nRegister Today: Contact Taylor Sylvia\, YDI Contracts Officer  youthadmin@ncns.ca Registration Deadline: March 9\, 2026 at 4:30 PM. \n Spaces are limited — early registration encouraged! This is a drug‑ and alcohol‑free event.
URL:https://www.ncnsaptec.ca/event/2026-healing-horizons-indigenous-youth-retreat/
LOCATION:Delta Dartmouth\, 240 Brownlow Ave\, Dartmouth\, Nova Scotia\, B3B 1X6\, Canada
ORGANIZER;CN="Youth Development Initiative":MAILTO:ncnsydi@ncns.ca
END:VEVENT
BEGIN:VEVENT
DTSTART;TZID=America/Halifax:20260320T100000
DTEND;TZID=America/Halifax:20260320T163000
DTSTAMP:20260420T195021
CREATED:20260316T115905Z
LAST-MODIFIED:20260316T115905Z
UID:3388-1774000800-1774024200@www.ncnsaptec.ca
SUMMARY:APTEC Quill Workshop
DESCRIPTION:Join us for a day of learning some quill-work crafts \nMarch 20\, 2026 @ 10:00am-4:30pm \n11 Akerley Blvd\, Suite 150\, Dartmouth NS \nSnacks and Drinks provided
URL:https://www.ncnsaptec.ca/event/aptec-quill-workshop/
LOCATION:Native Council Dartmouth Location\, 11 Akerly BLVD\, Suite 150\, Dartmouth\, Nova Scotia\, Canada
END:VEVENT
BEGIN:VEVENT
DTSTART;TZID=America/Halifax:20260324T091500
DTEND;TZID=America/Halifax:20260324T160000
DTSTAMP:20260420T195021
CREATED:20260219T184204Z
LAST-MODIFIED:20260219T184204Z
UID:3364-1774343700-1774368000@www.ncnsaptec.ca
SUMMARY:Non-Violent Crisis Intervention Training
DESCRIPTION:Upcoming training at our Dartmouth Office: \n  \nNon-Violent Crisis Intervention. \n9:15am-4:00pm on March 24\, 2026. \nTraining is free! \nThis is a great opportunity to increase your employability and build your resume. \nContact Denise Greenough to register: sarsethrm@ncns.ca or 902-405-4730 \n 
URL:https://www.ncnsaptec.ca/event/non-violent-crisis-intervention-training/
LOCATION:Native Council Dartmouth Location\, 11 Akerly BLVD\, Suite 150\, Dartmouth\, Nova Scotia\, Canada
END:VEVENT
BEGIN:VEVENT
DTSTART;TZID=America/Halifax:20260502T130000
DTEND;TZID=America/Halifax:20260502T150000
DTSTAMP:20260420T195021
CREATED:20260410T160646Z
LAST-MODIFIED:20260410T181826Z
UID:3396-1777726800-1777734000@www.ncnsaptec.ca
SUMMARY:Storytelling and Face Painting Workshop
DESCRIPTION:  \nThe Native Council of Nova Scotia and the Ross Creek Centre for the Arts are partnering up to host a Storytelling and Face Painting Workshop with Mi’kmaq Author of “Painting our Legacy” Raven Stephens \n  \nThis workshop is free to attend. \n  \nTaking place Saturday\, May 2nd at 1:00PM-3:00PM.
URL:https://www.ncnsaptec.ca/event/storytelling-and-face-painting-workshop/
LOCATION:Ross Creek Annex\, 2182 Sheffield Road\, Canning\, Nova Scotia\, B0P 1H0\, Canada
ORGANIZER;CN="APTEC West":MAILTO:aptecwest@ncns.ca
END:VEVENT
END:VCALENDAR